BEGIN:VCALENDAR
VERSION:2.0
PRODID:-//wp-events-plugin.com//7.2.3.1//EN
TZID:America/Los_Angeles
X-WR-TIMEZONE:America/Los_Angeles
BEGIN:VEVENT
UID:58@wacac.org
DTSTART;TZID=America/Los_Angeles:20260302T083000
DTEND;TZID=America/Los_Angeles:20260302T150000
DTSTAMP:20260227T191444Z
URL:https://www.wacac.org/events/share-learn-connect-2026-greater-l-a-coun
 ty/
SUMMARY:Share\, Learn & Connect 2026: Greater L.A. County
DESCRIPTION:\n[button link="https://wacac.memberclicks.net/2026lapepperdine
 slc" type="big" newwindow="yes"] Register Today[/button]\nJoin us for this
  engaging opportunity to connect with colleagues\, exchange ideas\, and ga
 in valuable insights on key topics shaping our field.\nMember: $85 / Non-M
 ember: $100College Reps: Register now for the College Fair at this event!\
 nSchedule8:30-9:00 a.m. Check-In9:00-10:00 a.m. Campus Tour10:00-10:45 a.m
 . Opening Session + Keynote10:45-11:30 a.m. Session Block 1\n\nUC/CSU Upda
 tes\nNavigating Test Anxiety: Science-Backed Strategies\nGet Silly To Get 
 Serious: Using Play To Bring In Students\, Families &amp\; Community Partn
 ers\n\n11:30 a.m. - 12:30 p.m. College Fair12:30-1:30 p.m. Lunch1:30-2:15 
 p.m. Session Block 2\n\nUC/CSU Updates\nMeet In The Lobby At 5 a.m.: Reima
 gining The Group College Tour\nWalking The Walk: Ethics In College Admissi
 on\n\n2:15-3:00 p.m. Session Block 3\n\nBlack Matador Excellence Experienc
 e At CSU Northridge: Widening The Bridge To Success For First-Year Student
 s\nCalculus Or Not Calculus: That Is The Question\nSummer Programs &amp\; 
 Scholarships &amp\; More\, Oh My!\n\n3:30-4:30 p.m. (Optional) School of N
 ursing Tour\, Pepperdine Calabasas Campus\n\n\n
CATEGORIES:Share, Learn and Connect Series
LOCATION:Pepperdine University\, 24255 Pacific Coast Highway\, Malibu\, CA\
 , 90263\, United States
GEO:34.034873;-118.703587
X-APPLE-STRUCTURED-LOCATION;VALUE=URI;X-ADDRESS=24255 Pacific Coast Highway
 \, Malibu\, CA\, 90263\, United States;X-APPLE-RADIUS=100;X-TITLE=Pepperdi
 ne University:geo:34.034873,-118.703587
END:VEVENT
BEGIN:VTIMEZONE
TZID:America/Los_Angeles
X-LIC-LOCATION:America/Los_Angeles
BEGIN:STANDARD
DTSTART:20251102T010000
TZOFFSETFROM:-0700
TZOFFSETTO:-0800
TZNAME:PST
END:STANDARD
END:VTIMEZONE
END:VCALENDAR