BEGIN:VCALENDAR
VERSION:2.0
PRODID:-//wp-events-plugin.com//7.2.3.1//EN
TZID:America/Los_Angeles
X-WR-TIMEZONE:America/Los_Angeles
BEGIN:VEVENT
UID:69@wacac.org
DTSTART;TZID=America/Los_Angeles:20260312T100000
DTEND;TZID=America/Los_Angeles:20260312T120000
DTSTAMP:20260309T230028Z
URL:https://www.wacac.org/events/san-joaquin-college-fair/
SUMMARY:San Joaquin College Fair
DESCRIPTION:\n\n\nStudents\, Parents &amp\; Counselors: Register Today!\nSe
 e the list of institutions who will be attending this event! (Updated on M
 arch 3)\nExhibitor Rates &amp\; Details\nRegistration fees apply for each 
 fair date that you attend.\n\n\n\nEarly (WACAC Members Only): $350\, from 
 Dec. 8 to Jan. 16\nRegular: $450\, Now through Feb. 28\nLate: $550\, Now t
 hrough April 21 (if space is available)\n\n[button link="https://wacac.mem
 berclicks.net/2026springwacacfairs" type="big" newwindow="yes"] Exhibitor 
 Registration [/button]\n\n\n\n\n\n\n\n\n\n
CATEGORIES:College Fairs
LOCATION:University of the Pacific: Janssen-Lagorio Gym\, Larry Heller Dr.\
 , Stockton\, CA\, 95211\, United States
GEO:37.976869;-121.315901
X-APPLE-STRUCTURED-LOCATION;VALUE=URI;X-ADDRESS=Larry Heller Dr.\, Stockton
 \, CA\, 95211\, United States;X-APPLE-RADIUS=100;X-TITLE=University of the
  Pacific: Janssen-Lagorio Gym:geo:37.976869,-121.315901
END:VEVENT
BEGIN:VTIMEZONE
TZID:America/Los_Angeles
X-LIC-LOCATION:America/Los_Angeles
BEGIN:DAYLIGHT
DTSTART:20260308T030000
TZOFFSETFROM:-0800
TZOFFSETTO:-0700
TZNAME:PDT
END:DAYLIGHT
END:VTIMEZONE
END:VCALENDAR