BEGIN:VCALENDAR
VERSION:2.0
PRODID:-//wp-events-plugin.com//7.2.3.1//EN
TZID:America/Los_Angeles
X-WR-TIMEZONE:America/Los_Angeles
BEGIN:VEVENT
UID:78@wacac.org
DTSTART;TZID=America/Los_Angeles:20260513T090000
DTEND;TZID=America/Los_Angeles:20260513T100000
DTSTAMP:20260416T191847Z
URL:https://www.wacac.org/events/coaching-the-counselor-tools-timelines-ta
 ctics-for-supporting-college-bound-student-athletes/
SUMMARY:Coaching The Counselor: Tools\, Timelines & Tactics For Supporting 
 College-Bound Student-Athletes
DESCRIPTION:\nCollege counselors are often the first stop for student-athle
 tes with big dreams — but limited clarity on how recruiting actually wor
 ks. This session will equip counselors with practical tools\, timelines\, 
 and communication strategies to effectively support students pursuing coll
 egiate athletics. Participants will learn how to guide students in buildin
 g realistic recruiting strategies\, understand how to evaluate athletic fi
 t\, guide outreach to coaches\, and help families avoid common (and costly
 ) mistakes. Attendees will walk away with trusted resources and real-world
  case studies to help advise students at every stage — from early intere
 st to signed commitment.\n\n\n\n\n\nFor members only. Please log in to you
 r Member Portal to register!\n
CATEGORIES:WACAC Wednesday
LOCATION:http://wacac.memberclicks.net/
END:VEVENT
BEGIN:VTIMEZONE
TZID:America/Los_Angeles
X-LIC-LOCATION:America/Los_Angeles
BEGIN:DAYLIGHT
DTSTART:20260308T030000
TZOFFSETFROM:-0800
TZOFFSETTO:-0700
TZNAME:PDT
END:DAYLIGHT
END:VTIMEZONE
END:VCALENDAR