BEGIN:VCALENDAR
VERSION:2.0
PRODID:-//wp-events-plugin.com//7.2.3.1//EN
TZID:America/Los_Angeles
X-WR-TIMEZONE:America/Los_Angeles
BEGIN:VEVENT
UID:70@wacac.org
DTSTART;TZID=America/Los_Angeles:20260319T180000
DTEND;TZID=America/Los_Angeles:20260319T200000
DTSTAMP:20260319T181232Z
URL:https://www.wacac.org/events/central-coast-college-fair/
SUMMARY:Central Coast College Fair
DESCRIPTION:\n\n\nStudents\, Parents &amp\; Counselors: Register Today!\nSe
 e the list of institutions who will be attending this event! (Updated on M
 arch 3)\nExhibitor Rates &amp\; Details\nRegistration fees apply for each 
 fair date that you attend.\n\n\n\nEarly (WACAC Members Only): $350\, from 
 Dec. 8 to Jan. 16\nRegular: $450\, Now through Feb. 28\nLate: $550\, Now t
 hrough April 21 (if space is available)\n\n[button link="https://wacac.mem
 berclicks.net/2026springwacacfairs" type="big" newwindow="yes"] Exhibitor 
 Registration [/button]\n\n\n\n\n
CATEGORIES:College Fairs
LOCATION:Templeton High School\, 1200 S Main Street\, Templeton\, Californi
 a\, 93465\, United States
GEO:35.543234;-120.712269
X-APPLE-STRUCTURED-LOCATION;VALUE=URI;X-ADDRESS=1200 S Main Street\, Temple
 ton\, California\, 93465\, United States;X-APPLE-RADIUS=100;X-TITLE=Temple
 ton High School:geo:35.543234,-120.712269
END:VEVENT
BEGIN:VTIMEZONE
TZID:America/Los_Angeles
X-LIC-LOCATION:America/Los_Angeles
BEGIN:DAYLIGHT
DTSTART:20260308T030000
TZOFFSETFROM:-0800
TZOFFSETTO:-0700
TZNAME:PDT
END:DAYLIGHT
END:VTIMEZONE
END:VCALENDAR